BEGIN:VCALENDAR
VERSION:2.0
PRODID:-//Tukios.com/
BEGIN:VEVENT
UID:a1455528-6723-4f27-8d1f-c43cf1404b04@www.brown-forward.com
DTSTAMP:20260422T072629Z
DTSTART:20260514T200000Z
DTEND:20260514T210000Z
SUMMARY:Celebration of Life
DESCRIPTION:
URL:https://www.brown-forward.com/obituaries/william-steinbrink
LOCATION:The Union Club 1211 Euclid Avenue  Cleveland OH 44115
GEO:41.5010394;-81.6843837
END:VEVENT
END:VCALENDAR